BEGIN:VCALENDAR
VERSION:2.0
PRODID:-//Squarespace Inc/Squarespace 6//v6//EN
BEGIN:VEVENT
UID:5c2cd93540ec9ab2ea4b421a@squarespace.com
DTSTAMP:20190102T153615Z
DTSTART:20190611T213000Z
DTEND:20190611T223000Z
SUMMARY:Champaign Unit
GEO:40.720756;-74.000761
LOCATION:VFW Post 5520\, 609 Edgebrook\, Champaign\, IL
END:VEVENT
END:VCALENDAR
