BEGIN:VCALENDAR
VERSION:2.0
PRODID:-//Squarespace Inc/Squarespace 6//v6//EN
BEGIN:VEVENT
UID:5c1bcb0a8985837e38c260a5@squarespace.com
DTSTAMP:20181220T170232Z
DTSTART:20190601T110000Z
DTEND:20190601T190000Z
SUMMARY:Local 51 Scholarship Golf Outing
GEO:40.720756;-74.000761
LOCATION:Piper Glen
END:VEVENT
END:VCALENDAR
