BEGIN:VCALENDAR
VERSION:2.0
PRODID:-//Squarespace Inc/Squarespace 6//v6//EN
BEGIN:VEVENT
UID:5c2cd6ffc2241bc8b40c3343@squarespace.com
DTSTAMP:20190102T152158Z
DTSTART:20190509T203000Z
DTEND:20190509T213000Z
SUMMARY:Peoria Unit
GEO:41.984515;-88.142894
LOCATION:VFW 2602\, 1505 E. Lake St.\, Peoria Heights\, IL
END:VEVENT
END:VCALENDAR
