BEGIN:VCALENDAR
VERSION:2.0
PRODID:-//Squarespace Inc/Squarespace 6//v6//EN
BEGIN:VEVENT
UID:5c2cd6c0032be425c6a0184c@squarespace.com
DTSTAMP:20190102T152056Z
DTSTART:20190509T193000Z
DTEND:20190509T203000Z
SUMMARY:Decatur Unit
GEO:39.884262;-88.935513
LOCATION:IBEW Local 146\, 3390 N. Woodford St.\, Decatur\, IL
END:VEVENT
END:VCALENDAR
