BEGIN:VCALENDAR
VERSION:2.0
PRODID:-//Squarespace Inc/Squarespace 6//v6//EN
BEGIN:VEVENT
UID:5c2cd697cd836676a1c3c80f@squarespace.com
DTSTAMP:20190403T185553Z
DTSTART:20190508T233000Z
DTEND:20190509T003000Z
SUMMARY:Jacksonville Unit
GEO:39.719182;-90.244184
LOCATION:American Legion Post 279\, 903 W. Superior Ave.\, Jacksonville\, I
 L
END:VEVENT
END:VCALENDAR
