BEGIN:VCALENDAR
VERSION:2.0
PRODID:-//Squarespace Inc/Squarespace 6//v6//EN
BEGIN:VEVENT
UID:5c2cd5c6758d46566d1ee043@squarespace.com
DTSTAMP:20190102T151935Z
DTSTART:20190508T200000Z
DTEND:20190508T210000Z
SUMMARY:Baldwin Unit
GEO:39.742855;-75.563407
LOCATION:Bullpen\, 101 N. Van Buren St.\, New Athens\, IL
END:VEVENT
END:VCALENDAR
