BEGIN:VCALENDAR
VERSION:2.0
PRODID:-//Squarespace Inc/Squarespace 6//v6//EN
BEGIN:VEVENT
UID:5c2cd576758d46566d1edd30@squarespace.com
DTSTAMP:20190102T151529Z
DTSTART:20190507T200000Z
DTEND:20190507T210000Z
SUMMARY:Havana Unit
GEO:34.098165;-118.213937
LOCATION:VFW\, 425 W. Ave.\, Havana\, IL
END:VEVENT
END:VCALENDAR
