BEGIN:VCALENDAR
VERSION:2.0
PRODID:-//Squarespace Inc/Squarespace 6//v6//EN
BEGIN:VEVENT
UID:5c2cd59a70a6adae0b47287f@squarespace.com
DTSTAMP:20190102T151603Z
DTSTART:20190507T220000Z
DTEND:20190507T230000Z
SUMMARY:Bloomington Unit
GEO:40.448215;-89.02514
LOCATION:IBEW Local 197\, 2407 Beich Rd\, Suite A\, Bloomington\, IL
END:VEVENT
END:VCALENDAR
