BEGIN:VCALENDAR
VERSION:2.0
PRODID:-//Squarespace Inc/Squarespace 6//v6//EN
BEGIN:VEVENT
UID:5c1bcae38a922d46a957f6da@squarespace.com
DTSTAMP:20181220T170144Z
DTSTART:20190527T110000Z
DTEND:20190527T210000Z
SUMMARY:Office Closed - Memorial Day Holiday
END:VEVENT
END:VCALENDAR
