BEGIN:VCALENDAR
VERSION:2.0
PRODID:-//Squarespace Inc/Squarespace 6//v6//EN
BEGIN:VEVENT
UID:5c2cd4fc40ec9ab2ea4b0c60@squarespace.com
DTSTAMP:20190102T151350Z
DTSTART:20190502T210000Z
DTEND:20190502T220000Z
SUMMARY:Wood River Unit
GEO:38.673098;-90.014097
LOCATION:IBEW Local 309\, 2000A Mall Street\, Collinsville\, IL
END:VEVENT
END:VCALENDAR
