BEGIN:VCALENDAR
VERSION:2.0
PRODID:-//Squarespace Inc/Squarespace 6//v6//EN
BEGIN:VEVENT
UID:5c2cd537758d46566d1ed9b1@squarespace.com
DTSTAMP:20190102T151438Z
DTSTART:20190502T213000Z
DTEND:20190502T223000Z
SUMMARY:Springfield Unit
GEO:39.743445;-89.712261
LOCATION:IBEW Local 51\, 3171 Greenhead Dr.\, Springfield\, IL
END:VEVENT
END:VCALENDAR
