BEGIN:VCALENDAR
VERSION:2.0
PRODID:-//Squarespace Inc/Squarespace 6//v6//EN
BEGIN:VEVENT
UID:5c2cd4b94d7a9c2ebb14f259@squarespace.com
DTSTAMP:20190102T151223Z
DTSTART:20190502T210000Z
DTEND:20190502T220000Z
SUMMARY:Galesburg Unit
GEO:40.917245;-90.293155
LOCATION:Knoxville American Legion\, 749 Henderson Rd.\, Knoxville\, IL
END:VEVENT
END:VCALENDAR
