BEGIN:VCALENDAR
VERSION:2.0
PRODID:-//Squarespace Inc/Squarespace 6//v6//EN
BEGIN:VEVENT
UID:5c1bcab54ae237e2349d4cd6@squarespace.com
DTSTAMP:20181220T170108Z
DTSTART:20190518T130000Z
DTEND:20190518T160000Z
SUMMARY:Executive Board
GEO:40.720756;-74.000761
LOCATION:IBEW Local 51\, 3171 Greenhead Dr.\, Springfield\, IL
END:VEVENT
END:VCALENDAR
