BEGIN:VCALENDAR
VERSION:2.0
PRODID:-//Squarespace Inc/Squarespace 6//v6//EN
BEGIN:VEVENT
UID:5c1bca89562fa7a59c0741e0@squarespace.com
DTSTAMP:20181220T170022Z
DTSTART:20190511T130000Z
DTEND:20190511T170000Z
SUMMARY:ALBAT Training
GEO:40.720756;-74.000761
LOCATION:Decatur\, IL
END:VEVENT
END:VCALENDAR
