BEGIN:VCALENDAR
VERSION:2.0
PRODID:-//Squarespace Inc/Squarespace 6//v6//EN
BEGIN:VEVENT
UID:5c2cd46eaa4a995f08ccac0b@squarespace.com
DTSTAMP:20190102T151103Z
DTSTART:20190501T210000Z
DTEND:20190501T220000Z
SUMMARY:Lincoln Unit
GEO:40.139853;-89.349298
LOCATION:KC Hall\, 217 Limit St.\, Lincoln\, IL
END:VEVENT
END:VCALENDAR
