BEGIN:VCALENDAR
VERSION:2.0
PRODID:-//Squarespace Inc/Squarespace 6//v6//EN
BEGIN:VEVENT
UID:5c2cd490f950b760dd73b3f5@squarespace.com
DTSTAMP:20190102T151144Z
DTSTART:20190501T220000Z
DTEND:20190501T230000Z
SUMMARY:LaSalle Unit
GEO:26.010888;-80.121879
LOCATION:Eagles Lodge\, 830 Harrison St.\, Peru\, IL
END:VEVENT
END:VCALENDAR
