BEGIN:VCALENDAR
VERSION:2.0
PRODID:-//Squarespace Inc/Squarespace 6//v6//EN
BEGIN:VEVENT
UID:5c2cd4204fa51a03a8b3bb7a@squarespace.com
DTSTAMP:20190102T151023Z
DTSTART:20190501T200000Z
DTEND:20190501T210000Z
SUMMARY:Clinton Unit
GEO:40.149822;-88.942658
LOCATION:1520 E. South St.\, Clinton\, IL
END:VEVENT
END:VCALENDAR
