BEGIN:VCALENDAR
VERSION:2.0
PRODID:-//Squarespace Inc/Squarespace 6//v6//EN
BEGIN:VEVENT
UID:5c1bc942cd8366c9a7565f71@squarespace.com
DTSTAMP:20181220T165452Z
DTSTART:20190409T213000Z
DTEND:20190409T223000Z
SUMMARY:Champaign Unit
GEO:36.166264;-115.317048
LOCATION:VFW Post 5520\, 609 Edgebrook\, Champaign\, IL
END:VEVENT
END:VCALENDAR
