BEGIN:VCALENDAR
VERSION:2.0
PRODID:-//Squarespace Inc/Squarespace 6//v6//EN
BEGIN:VEVENT
UID:5c1bc8fef950b7a45f541c74@squarespace.com
DTSTAMP:20181220T165339Z
DTSTART:20190404T210000Z
DTEND:20190404T220000Z
SUMMARY:Wood River Unit
GEO:38.673098;-90.014097
LOCATION:IBEW Local 309\, 2000A Mall St.\, Collinsville\, IL
END:VEVENT
END:VCALENDAR
