BEGIN:VCALENDAR
VERSION:2.0
PRODID:-//Squarespace Inc/Squarespace 6//v6//EN
BEGIN:VEVENT
UID:5c1bc9234fa51a336999fa7c@squarespace.com
DTSTAMP:20181220T165416Z
DTSTART:20190404T213000Z
DTEND:20190404T223000Z
SUMMARY:Springfield Unit
GEO:40.720756;-74.000761
LOCATION:IBEW Local 51\, 3171 Greenhead Dr.\, Springfield\, IL
END:VEVENT
END:VCALENDAR
