BEGIN:VCALENDAR
VERSION:2.0
PRODID:-//Squarespace Inc/Squarespace 6//v6//EN
BEGIN:VEVENT
UID:5c1bc89840ec9af19d0be4a6@squarespace.com
DTSTAMP:20181220T165843Z
DTSTART:20190404T210000Z
DTEND:20190404T220000Z
SUMMARY:Galesburg Unit
GEO:39.733936;-90.22901
LOCATION:Knoxville American Legion\, 749 Henderson Rd.\, Knoxville\, IL
END:VEVENT
END:VCALENDAR
