BEGIN:VCALENDAR
VERSION:2.0
PRODID:-//Squarespace Inc/Squarespace 6//v6//EN
BEGIN:VEVENT
UID:5ca4f6cbe2c483930d964dca@squarespace.com
DTSTAMP:20190403T181015Z
DTSTART:20190403T140000Z
DTEND:20190403T170000Z
SUMMARY:RENEW Easter Egg Hunt
GEO:39.846468;-88.984073
LOCATION:Fairview Park\, N Oakcrest Ave.\, Decatur\, IL
END:VEVENT
END:VCALENDAR
