BEGIN:VCALENDAR
VERSION:2.0
PRODID:-//Squarespace Inc/Squarespace 6//v6//EN
BEGIN:VEVENT
UID:5c1bc8576d2a73fd771de2d6@squarespace.com
DTSTAMP:20181220T165055Z
DTSTART:20190403T210000Z
DTEND:20190403T220000Z
SUMMARY:Lincoln Unit
GEO:40.139853;-89.349298
LOCATION:KC Hall\, 217 Limit Street\, Peoria Heights\, IL
END:VEVENT
END:VCALENDAR
