BEGIN:VCALENDAR
VERSION:2.0
PRODID:-//Squarespace Inc/Squarespace 6//v6//EN
BEGIN:VEVENT
UID:5c1bc87870a6ad0eeee1ae19@squarespace.com
DTSTAMP:20181220T165125Z
DTSTART:20190403T220000Z
DTEND:20190403T230000Z
SUMMARY:LaSalle Unit
GEO:26.010888;-80.121879
LOCATION:Eagles Lodge\, 830 Harrison St.\, Peru\, IL
END:VEVENT
END:VCALENDAR
