BEGIN:VCALENDAR
VERSION:2.0
PRODID:-//Squarespace Inc/Squarespace 6//v6//EN
BEGIN:VEVENT
UID:5c1bc83bf950b7a45f540e9a@squarespace.com
DTSTAMP:20181220T165023Z
DTSTART:20190403T200000Z
DTEND:20190403T210000Z
SUMMARY:Clinton Unit
GEO:33.859919;-118.173692
LOCATION:1520 E. South St.\, Clinton\, IL
END:VEVENT
END:VCALENDAR
