BEGIN:VCALENDAR
VERSION:2.0
PRODID:-//Squarespace Inc/Squarespace 6//v6//EN
BEGIN:VEVENT
UID:5c1bc7b4f950b7a45f54078f@squarespace.com
DTSTAMP:20181220T164828Z
DTSTART:20190425T130000Z
DTEND:20190425T170000Z
SUMMARY:Executive Board
GEO:39.743445;-89.712261
LOCATION:IBEW Local 51\, 3171 Greenhead Dr.\, Springfield\, IL
END:VEVENT
END:VCALENDAR
