BEGIN:VCALENDAR
VERSION:2.0
PRODID:-//Squarespace Inc/Squarespace 6//v6//EN
BEGIN:VEVENT
UID:5c1bc7f440ec9af19d0bdaca@squarespace.com
DTSTAMP:20181220T164917Z
DTSTART:20190402T200000Z
DTEND:20190402T210000Z
SUMMARY:Havana Unit
GEO:34.098165;-118.213937
LOCATION:VFW\, 425 W. Avenue\, Havana\, IL
END:VEVENT
END:VCALENDAR
