BEGIN:VCALENDAR
VERSION:2.0
PRODID:-//Squarespace Inc/Squarespace 6//v6//EN
BEGIN:VEVENT
UID:5c1bc8160e2e72430f538391@squarespace.com
DTSTAMP:20181220T164954Z
DTSTART:20190402T220000Z
DTEND:20190402T230000Z
SUMMARY:Bloomington Unit
GEO:40.448215;-89.02514
LOCATION:IBEW Local 197\, 2407 Beich Rd.\, Suite A\, Bloomington\, IL
END:VEVENT
END:VCALENDAR
