BEGIN:VCALENDAR
VERSION:2.0
PRODID:-//Squarespace Inc/Squarespace 6//v6//EN
BEGIN:VEVENT
UID:5c1bc78ef950b7a45f5405c3@squarespace.com
DTSTAMP:20181220T164735Z
DTSTART:20190419T110000Z
DTEND:20190419T210000Z
SUMMARY:Office Closed - Good Friday
END:VEVENT
END:VCALENDAR
