BEGIN:VCALENDAR
VERSION:2.0
PRODID:-//Squarespace Inc/Squarespace 6//v6//EN
BEGIN:VEVENT
UID:5c1bc76d352f53a53c8324e3@squarespace.com
DTSTAMP:20181220T164655Z
DTSTART:20190413T130000Z
DTEND:20190413T170000Z
SUMMARY:ALBAT Training
END:VEVENT
END:VCALENDAR
