BEGIN:VCALENDAR
VERSION:2.0
PRODID:-//Squarespace Inc/Squarespace 6//v6//EN
BEGIN:VEVENT
UID:5c1bc9e8c2241b1875fc169a@squarespace.com
DTSTAMP:20181220T165735Z
DTSTART:20190411T203000Z
DTEND:20190411T213000Z
SUMMARY:Peoria Unit
GEO:41.984515;-88.142894
LOCATION:VFW 2602\, 1505 E. Lake St.\, Peoria Heights\, IL
END:VEVENT
END:VCALENDAR
