BEGIN:VCALENDAR
VERSION:2.0
PRODID:-//Squarespace Inc/Squarespace 6//v6//EN
BEGIN:VEVENT
UID:5c1bc9886d2a73fd771df459@squarespace.com
DTSTAMP:20190403T185453Z
DTSTART:20190410T233000Z
DTEND:20190411T003000Z
SUMMARY:Jacksonville Unit
GEO:37.031751;-95.627765
LOCATION:American Legion Post 279\, 903 W. Superior Ave.\, Jacksonville\, I
 L
END:VEVENT
END:VCALENDAR
