BEGIN:VCALENDAR
VERSION:2.0
PRODID:-//Squarespace Inc/Squarespace 6//v6//EN
BEGIN:VEVENT
UID:5c1bc96603ce64d37309b100@squarespace.com
DTSTAMP:20181220T165521Z
DTSTART:20190410T200000Z
DTEND:20190410T210000Z
SUMMARY:Baldwin Unit
GEO:39.742855;-75.563407
LOCATION:Bullpen\, 101 N. Van Buren St.\, New Athens\, IL
END:VEVENT
END:VCALENDAR
