BEGIN:VCALENDAR
VERSION:2.0
PRODID:-//Squarespace Inc/Squarespace 6//v6//EN
BEGIN:VEVENT
UID:5c1bc7491ae6cfe7619813f2@squarespace.com
DTSTAMP:20181220T164623Z
DTSTART:20190401T110000Z
DTEND:20190401T120000Z
SUMMARY:2Qtr2019 Union Dues
END:VEVENT
END:VCALENDAR
