BEGIN:VCALENDAR
VERSION:2.0
PRODID:-//Squarespace Inc/Squarespace 6//v6//EN
BEGIN:VEVENT
UID:5c1a686ec2241b318b9fa29a@squarespace.com
DTSTAMP:20181219T154931Z
DTSTART:20190309T140000Z
DTEND:20190309T180000Z
SUMMARY:ALBAT Training
GEO:39.840315;-88.9548
LOCATION:Decatur IL
END:VEVENT
END:VCALENDAR
