BEGIN:VCALENDAR
VERSION:2.0
PRODID:-//Squarespace Inc/Squarespace 6//v6//EN
BEGIN:VEVENT
UID:5c1a699dcd836607357e557b@squarespace.com
DTSTAMP:20181219T155428Z
DTSTART:20190307T220000Z
DTEND:20190307T230000Z
SUMMARY:Wood River Unit
GEO:40.720756;-74.000761
LOCATION:IBEW Local 309\, 2000A Mall St.\, Collinsville\, IL
END:VEVENT
END:VCALENDAR
