BEGIN:VCALENDAR
VERSION:2.0
PRODID:-//Squarespace Inc/Squarespace 6//v6//EN
BEGIN:VEVENT
UID:5c1a69bf0ebbe89f814420ea@squarespace.com
DTSTAMP:20181219T155459Z
DTSTART:20190307T223000Z
DTEND:20190307T233000Z
SUMMARY:Springfield Unit
GEO:39.743356;-89.714767
LOCATION:IBEW Locla 51\, 3171 Greenhead Dr.\, Springfield\, IL
END:VEVENT
END:VCALENDAR
