BEGIN:VCALENDAR
VERSION:2.0
PRODID:-//Squarespace Inc/Squarespace 6//v6//EN
BEGIN:VEVENT
UID:5c1a71782b6a2888813ca406@squarespace.com
DTSTAMP:20181219T162816Z
DTSTART:20190306T220000Z
DTEND:20190306T230000Z
SUMMARY:Lincoln Unit
GEO:40.720756;-74.000761
LOCATION:KC Hall\, 217 Limit St.\, Lincoln\, IL
END:VEVENT
END:VCALENDAR
