BEGIN:VCALENDAR
VERSION:2.0
PRODID:-//Squarespace Inc/Squarespace 6//v6//EN
BEGIN:VEVENT
UID:5c1a6952f950b72a334e3748@squarespace.com
DTSTAMP:20181219T155312Z
DTSTART:20190306T230000Z
DTEND:20190307T000000Z
SUMMARY:LaSalle Unit
GEO:40.720756;-74.000761
LOCATION:Eagles Lodge\, 830 Harrison St.\, Peru\, IL
END:VEVENT
END:VCALENDAR
