BEGIN:VCALENDAR
VERSION:2.0
PRODID:-//Squarespace Inc/Squarespace 6//v6//EN
BEGIN:VEVENT
UID:5c1a690d40ec9a134c334680@squarespace.com
DTSTAMP:20181219T155206Z
DTSTART:20190306T210000Z
DTEND:20190306T220000Z
SUMMARY:Clinton Unit
GEO:40.720756;-74.000761
LOCATION:1520 E. South St.\, Clinton IL
END:VEVENT
END:VCALENDAR
