BEGIN:VCALENDAR
VERSION:2.0
PRODID:-//Squarespace Inc/Squarespace 6//v6//EN
BEGIN:VEVENT
UID:5c1a68c44d7a9c92ae90ebdb@squarespace.com
DTSTAMP:20181219T155054Z
DTSTART:20190305T210000Z
DTEND:20190305T220000Z
SUMMARY:Havana Unit
GEO:40.720756;-74.000761
LOCATION:VFW\, 425 W. Ave\, Havana\, IL
END:VEVENT
END:VCALENDAR
