BEGIN:VCALENDAR
VERSION:2.0
PRODID:-//Squarespace Inc/Squarespace 6//v6//EN
BEGIN:VEVENT
UID:5c1a68ea0ebbe89f814414b7@squarespace.com
DTSTAMP:20181219T155130Z
DTSTART:20190305T230000Z
DTEND:20190306T000000Z
SUMMARY:Bloomington Unit
GEO:40.720756;-74.000761
LOCATION:IBEW Local 197\, 2407 Beich Road\, Suite A\, Bloomington\, IL
END:VEVENT
END:VCALENDAR
