BEGIN:VCALENDAR
VERSION:2.0
PRODID:-//Squarespace Inc/Squarespace 6//v6//EN
BEGIN:VEVENT
UID:5c1a689670a6ada0a2d47a74@squarespace.com
DTSTAMP:20181219T154958Z
DTSTART:20190323T130000Z
DTEND:20190323T160000Z
SUMMARY:Executive Board
END:VEVENT
END:VCALENDAR
