BEGIN:VCALENDAR
VERSION:2.0
PRODID:-//Squarespace Inc/Squarespace 6//v6//EN
BEGIN:VEVENT
UID:5c1a6b332b6a2859e5040096@squarespace.com
DTSTAMP:20181219T160115Z
DTSTART:20190314T193000Z
DTEND:20190314T203000Z
SUMMARY:Decatur Unit
GEO:40.720756;-74.000761
LOCATION:IBEW Local 146\, 3390 N. Woodford St.\, Decatur\, IL
END:VEVENT
END:VCALENDAR
