BEGIN:VCALENDAR
VERSION:2.0
PRODID:-//Squarespace Inc/Squarespace 6//v6//EN
BEGIN:VEVENT
UID:5c1a6b0c898583b267ab6098@squarespace.com
DTSTAMP:20181219T160041Z
DTSTART:20190313T233000Z
DTEND:20190314T003000Z
SUMMARY:Jacksonville Unit
GEO:40.720756;-74.000761
LOCATION:American Legion\, 903 W. Superior Ave.\, Jacksonville\, IL
END:VEVENT
END:VCALENDAR
