BEGIN:VCALENDAR
VERSION:2.0
PRODID:-//Squarespace Inc/Squarespace 6//v6//EN
BEGIN:VEVENT
UID:5c1a6ac670a6ada0a2d49a4a@squarespace.com
DTSTAMP:20181219T155930Z
DTSTART:20190312T213000Z
DTEND:20190312T223000Z
SUMMARY:Champaign Unit
GEO:40.720756;-74.000761
LOCATION:VFW Post 5520\, 609 Edgebrook\, Champaign\, IL
END:VEVENT
END:VCALENDAR
