BEGIN:VCALENDAR
VERSION:2.0
PRODID:-//Squarespace Inc/Squarespace 6//v6//EN
BEGIN:VEVENT
UID:5c1a5b25758d461c4f639c13@squarespace.com
DTSTAMP:20181219T145244Z
DTSTART:20190209T140000Z
DTEND:20190209T180000Z
SUMMARY:ALBAT Training
GEO:40.720756;-74.000761
LOCATION:Decatur
END:VEVENT
END:VCALENDAR
