BEGIN:VCALENDAR
VERSION:2.0
PRODID:-//Squarespace Inc/Squarespace 6//v6//EN
BEGIN:VEVENT
UID:5c1a60a64d7a9c430ae5cfb6@squarespace.com
DTSTAMP:20181219T151611Z
DTSTART:20190209T003000Z
DTEND:20190209T013000Z
SUMMARY:Construction Unit
GEO:40.720756;-74.000761
LOCATION:IBEW Local 51\, 3171 Greenhead Dr.\, Springfield\, IL
END:VEVENT
END:VCALENDAR
