BEGIN:VCALENDAR
VERSION:2.0
PRODID:-//Squarespace Inc/Squarespace 6//v6//EN
BEGIN:VEVENT
UID:5c1a606021c67c40d6968fab@squarespace.com
DTSTAMP:20181219T151504Z
DTSTART:20190207T220000Z
DTEND:20190207T230000Z
SUMMARY:Wood River Unit
GEO:38.673098;-90.014097
LOCATION:IBEW Local 309\, 2000A Mall St.\, Collinsville\, IL
END:VEVENT
END:VCALENDAR
