BEGIN:VCALENDAR
VERSION:2.0
PRODID:-//Squarespace Inc/Squarespace 6//v6//EN
BEGIN:VEVENT
UID:5c1a608270a6ad5eef66f41b@squarespace.com
DTSTAMP:20181219T151539Z
DTSTART:20190207T223000Z
DTEND:20190207T233000Z
SUMMARY:Springfield Unit
GEO:40.720756;-74.000761
LOCATION:IBEW Local 51\, 3171 Greenhead Dr.\, Springfield\, IL
END:VEVENT
END:VCALENDAR
